BEGIN:VCALENDAR
VERSION:2.0
METHOD:PUBLISH
PRODID:SimpleCalendar
BEGIN:VEVENT
UID:@simplecalendar-Churches of Christ in Christian Union
CATEGORIES:NED Events
CLASS:PUBLIC
DTSTAMP:20260420T083612Z
CREATED:20260420T083612Z
SUMMARY:Lily Lake Youth Camp
DESCRIPTION:Lily Lake Youth Camp Lily Lake Camp /  Rev. Frank Skies
LOCATION:Lily Lake Camp
LAST-MODIFIED:20220302T170711Z
URL:https://www.cccuhq.org/component/simplecalendar/140-ned-events/163-lily-lake-youth-camp?Itemid=382
TRANSP:OPAQUE
DTSTART:20220710T000000Z
DTEND:20220716T000000Z
END:VEVENT
END:VCALENDAR