BEGIN:VCALENDAR
VERSION:2.0
METHOD:PUBLISH
PRODID:SimpleCalendar
BEGIN:VEVENT
UID:@simplecalendar-Churches of Christ in Christian Union
CATEGORIES:SCD Events
CLASS:PUBLIC
DTSTAMP:20260420T093847Z
CREATED:20260420T093847Z
SUMMARY:SCD Minister & Spouse Retreat
DESCRIPTION:SCD Minister & Spouse Retreat Hocking Hills State Park Lodge /  Mrs. Charla  Holbrook
LOCATION:Hocking Hills State Park Lodge
LAST-MODIFIED:20250701T000000Z
URL:https://www.cccuhq.org/component/simplecalendar/139-scd-events/301-scd-ministers-spouses-retreat-5d85594?Itemid=382
TRANSP:OPAQUE
DTSTART:20260309T000000Z
DTEND:20260310T000000Z
END:VEVENT
END:VCALENDAR