BEGIN:VCALENDAR
VERSION:2.0
METHOD:PUBLISH
PRODID:SimpleCalendar
BEGIN:VEVENT
UID:@simplecalendar-Churches of Christ in Christian Union
CATEGORIES:SCD Events
CLASS:PUBLIC
DTSTAMP:20260420T093657Z
CREATED:20260420T093657Z
SUMMARY:Nipgen Camp Meeting
DESCRIPTION:Nipgen Camp Meeting Nipgen Camp /  Mrs. Charla Holbrook
LOCATION:Nipgen Camp
LAST-MODIFIED:20240807T135809Z
URL:https://www.cccuhq.org/component/simplecalendar/139-scd-events/269-nipgen-camp-meeting-01dc37b?Itemid=382
TRANSP:OPAQUE
DTSTART:20250719T000000Z
DTEND:20250727T000000Z
END:VEVENT
END:VCALENDAR