BEGIN:VCALENDAR
VERSION:2.0
METHOD:PUBLISH
PRODID:SimpleCalendar
BEGIN:VEVENT
UID:@simplecalendar-Churches of Christ in Christian Union
CATEGORIES:SCD Events
CLASS:PUBLIC
DTSTAMP:20260420T093717Z
CREATED:20260420T093717Z
SUMMARY:Nipgen Camp Meeting
DESCRIPTION:Nipgen Camp Meeting Nipgen Camp /  Rev. Gary Heimbach
LOCATION:Nipgen Camp
LAST-MODIFIED:20230920T182659Z
GEO:39.19510;-83.15090
URL:https://www.cccuhq.org/component/simplecalendar/139-scd-events/233-nipgen-camp-meeting-5e709c0?Itemid=382
TRANSP:OPAQUE
DTSTART:20240720T000000Z
DTEND:20240728T000000Z
END:VEVENT
END:VCALENDAR