BEGIN:VCALENDAR
VERSION:2.0
METHOD:PUBLISH
PRODID:SimpleCalendar
BEGIN:VEVENT
UID:@simplecalendar-Churches of Christ in Christian Union
CATEGORIES:SCD Events
CLASS:PUBLIC
DTSTAMP:20260420T093550Z
CREATED:20260420T093550Z
SUMMARY:South Central District Junior Camp
DESCRIPTION:South Central District Junior Camp Nipgen Camp /  ECY Office
LOCATION:Nipgen Camp
LAST-MODIFIED:20230920T000000Z
GEO:39.19510;-83.15090
URL:https://www.cccuhq.org/component/simplecalendar/139-scd-events/228-south-central-district-junior-camp-f3ea652?Itemid=382
TRANSP:OPAQUE
DTSTART:20240616T000000Z
DTEND:20240620T000000Z
END:VEVENT
END:VCALENDAR