BEGIN:VCALENDAR
VERSION:2.0
METHOD:PUBLISH
PRODID:SimpleCalendar
BEGIN:VEVENT
UID:@simplecalendar-Churches of Christ in Christian Union
CATEGORIES:SCD Events
CLASS:PUBLIC
DTSTAMP:20260420T093508Z
CREATED:20260420T093508Z
SUMMARY:South Central District Junior High Camp
DESCRIPTION:South Central District Junior High Camp Nipgen Camp /  ECY Office
LOCATION:Nipgen Camp
LAST-MODIFIED:20230920T000000Z
GEO:39.19510;-83.15090
URL:https://www.cccuhq.org/component/simplecalendar/139-scd-events/227-south-central-district-junior-camp-3c1e431?Itemid=382
TRANSP:OPAQUE
DTSTART:20240609T000000Z
DTEND:20240614T000000Z
END:VEVENT
END:VCALENDAR