BEGIN:VCALENDAR
VERSION:2.0
METHOD:PUBLISH
PRODID:SimpleCalendar
BEGIN:VEVENT
UID:@simplecalendar-Churches of Christ in Christian Union
CATEGORIES:SCD Events
CLASS:PUBLIC
DTSTAMP:20260420T081553Z
CREATED:20260420T081553Z
SUMMARY:SCD Evangelical Christian Ladies Retreat
DESCRIPTION:SCD Evangelical Christian Ladies Retreat Deer Creek State Park Lodge /  Mrs . Suzanne Huffman
LOCATION:Deer Creek State Park Lodge
LAST-MODIFIED:20230111T155943Z
GEO:39.62175;-83.23630
URL:https://www.cccuhq.org/component/simplecalendar/139-scd-events/195-scd-evangelical-christian-ladies-retreat?Itemid=382
TRANSP:OPAQUE
DTSTART:20230324T000000Z
DTEND:20230325T000000Z
END:VEVENT
END:VCALENDAR