BEGIN:VCALENDAR
VERSION:2.0
METHOD:PUBLISH
PRODID:SimpleCalendar
BEGIN:VEVENT
UID:@simplecalendar-Churches of Christ in Christian Union
CATEGORIES:SCD Events
CLASS:PUBLIC
DTSTAMP:20260420T082800Z
CREATED:20260420T082800Z
SUMMARY:SCD Junior Camp
DESCRIPTION:SCD Junior Camp Nipgen Campgrounds /  Mike & Becky Schlaegel
LOCATION:Nipgen Campgrounds
LAST-MODIFIED:20211013T000000Z
GEO:39.19506;-83.15088
URL:https://www.cccuhq.org/component/simplecalendar/139-scd-events/147-scd-junior-camp?Itemid=382
TRANSP:OPAQUE
DTSTART:20220626T000000Z
DTEND:20220630T000000Z
END:VEVENT
END:VCALENDAR