BEGIN:VCALENDAR
VERSION:2.0
METHOD:PUBLISH
PRODID:SimpleCalendar
BEGIN:VEVENT
UID:@simplecalendar-Churches of Christ in Christian Union
CATEGORIES:SCD Events
CLASS:PUBLIC
DTSTAMP:20260420T083439Z
CREATED:20260420T083439Z
SUMMARY:Nipgen Camp Meeting
DESCRIPTION:Nipgen Camp Meeting Nipgen Campgrounds /  Rev. Gary Heimbach
LOCATION:Nipgen Campgrounds
LAST-MODIFIED:20210507T141312Z
URL:https://www.cccuhq.org/component/simplecalendar/139-scd-events/137-nipgen-camp-meeting?Itemid=382
TRANSP:OPAQUE
DTSTART:20210717T000000Z
DTEND:20210725T000000Z
END:VEVENT
END:VCALENDAR