BEGIN:VCALENDAR
VERSION:2.0
METHOD:PUBLISH
PRODID:SimpleCalendar
BEGIN:VEVENT
UID:@simplecalendar-Churches of Christ in Christian Union
CATEGORIES:WCD Events
CLASS:PUBLIC
DTSTAMP:20260420T081526Z
CREATED:20260420T081526Z
SUMMARY:West Central District Ministers & Spouses Retreat
DESCRIPTION:West Central District Ministers & Spouses Retreat Carlisle Inn /  Mrs. Susa n Jones
LOCATION:Carlisle Inn
LAST-MODIFIED:20220302T000000Z
GEO:40.50923;-81.60957
URL:https://www.cccuhq.org/component/simplecalendar/138-wcd-events/173-west-central-district-ministers-spouses-retreat-3ab6623?Itemid=382
TRANSP:OPAQUE
DTSTART:20230305T000000Z
DTEND:20230307T000000Z
END:VEVENT
END:VCALENDAR