BEGIN:VCALENDAR
VERSION:2.0
METHOD:PUBLISH
PRODID:SimpleCalendar
BEGIN:VEVENT
UID:@simplecalendar-Churches of Christ in Christian Union
CATEGORIES:WCD Events
CLASS:PUBLIC
DTSTAMP:20260420T081430Z
CREATED:20260420T081430Z
SUMMARY:West Central District Camp Meeting
DESCRIPTION:West Central District Camp Meeting Heritage CCCU /  Mrs. Susan Jones
LOCATION:Heritage CCCU
LAST-MODIFIED:20210507T000000Z
GEO:39.54449;-83.47043
URL:https://www.cccuhq.org/component/simplecalendar/138-wcd-events/135-west-central-district-camp-meeting-b094f98?Itemid=382
TRANSP:OPAQUE
DTSTART:20210713T000000Z
DTEND:20210718T000000Z
END:VEVENT
END:VCALENDAR