BEGIN:VCALENDAR
VERSION:2.0
METHOD:PUBLISH
PRODID:SimpleCalendar
BEGIN:VEVENT
UID:@simplecalendar-Churches of Christ in Christian Union
CATEGORIES:Youth Events
CLASS:PUBLIC
DTSTAMP:20260420T081552Z
CREATED:20260420T081552Z
SUMMARY:Evangelical Christian Youth Fall Retreat
DESCRIPTION:Evangelical Christian Youth Fall Retreat Camp Otyokwah /  ECY Office
LOCATION:Camp Otyokwah
LAST-MODIFIED:20230920T192306Z
GEO:40.60358;-82.38786
URL:https://www.cccuhq.org/component/simplecalendar/136-youth-events/238-evangelical-christian-youth-fall-retreat-fc1c758?Itemid=382
TRANSP:OPAQUE
DTSTART:20231110T000000Z
DTEND:20231112T000000Z
END:VEVENT
END:VCALENDAR