BEGIN:VCALENDAR
VERSION:2.0
METHOD:PUBLISH
PRODID:SimpleCalendar
BEGIN:VEVENT
UID:@simplecalendar-Churches of Christ in Christian Union
CATEGORIES:Youth Events
CLASS:PUBLIC
DTSTAMP:20260420T081343Z
CREATED:20260420T081343Z
SUMMARY:West Central District Kidz Camp
DESCRIPTION:West Central District Kidz Camp Camp Aldersgate /  Pastor Jodie Truex
LOCATION:Camp Aldersgate
LAST-MODIFIED:20230419T140413Z
GEO:40.49214;-81.17118
URL:https://www.cccuhq.org/component/simplecalendar/136-youth-events/210-west-central-district-kidz-camp?Itemid=382
TRANSP:OPAQUE
DTSTART:20230605T000000Z
DTEND:20230608T000000Z
END:VEVENT
END:VCALENDAR