BEGIN:VCALENDAR
VERSION:2.0
METHOD:PUBLISH
PRODID:SimpleCalendar
BEGIN:VEVENT
UID:@simplecalendar-Churches of Christ in Christian Union
CATEGORIES:Youth Events
CLASS:PUBLIC
DTSTAMP:20260420T083426Z
CREATED:20260420T083426Z
SUMMARY:Teens in Action Youth Camp
DESCRIPTION:Teens in Action Youth Camp Nipgen Camp /  Mike & Susan Roades
LOCATION:Nipgen Camp
LAST-MODIFIED:20220919T000000Z
URL:https://www.cccuhq.org/component/simplecalendar/136-youth-events/186-teens-in-action?Itemid=382
TRANSP:OPAQUE
DTSTART:20230715T000000Z
DTEND:20230722T000000Z
END:VEVENT
END:VCALENDAR