BEGIN:VCALENDAR
VERSION:2.0
METHOD:PUBLISH
PRODID:SimpleCalendar
BEGIN:VEVENT
UID:@simplecalendar-Churches of Christ in Christian Union
CATEGORIES:Youth Events
CLASS:PUBLIC
DTSTAMP:20260420T083245Z
CREATED:20260420T083245Z
SUMMARY:Nipgen Junior Camp
DESCRIPTION:Nipgen Junior Camp Nipgen Camp /  Mike & Becky Schlaegel
LOCATION:Nipgen Camp
LAST-MODIFIED:20220919T000000Z
URL:https://www.cccuhq.org/component/simplecalendar/136-youth-events/184-nipgen-junior-camp?Itemid=382
TRANSP:OPAQUE
DTSTART:20230618T000000Z
DTEND:20230622T000000Z
END:VEVENT
END:VCALENDAR