BEGIN:VCALENDAR
VERSION:2.0
METHOD:PUBLISH
PRODID:SimpleCalendar
BEGIN:VEVENT
UID:@simplecalendar-Churches of Christ in Christian Union
CATEGORIES:Youth Events
CLASS:PUBLIC
DTSTAMP:20260420T082236Z
CREATED:20260420T082236Z
SUMMARY:Evangelical Christian Youth Spring Retreat
DESCRIPTION:Evangelical Christian Youth Spring Retreat Scioto Hills Christian Camp and  Retreat Center /  Rev. Michael Blevins
LOCATION:Scioto Hills Christian Camp and Retreat Center
LAST-MODIFIED:20220302T181908Z
GEO:38.77868;-82.75677
URL:https://www.cccuhq.org/component/simplecalendar/136-youth-events/167-evangelical-christian-youth-spring-retreat-74bffd8?Itemid=382
TRANSP:OPAQUE
DTSTART:20220408T000000Z
DTEND:20220410T000000Z
END:VEVENT
END:VCALENDAR