BEGIN:VCALENDAR
VERSION:2.0
METHOD:PUBLISH
PRODID:SimpleCalendar
BEGIN:VEVENT
UID:@simplecalendar-Churches of Christ in Christian Union
CATEGORIES:General
CLASS:PUBLIC
DTSTAMP:20260420T081009Z
CREATED:20260420T081009Z
SUMMARY:Advent Offering for Missions
DESCRIPTION:Advent Offering for Missions All Churches /  Rev. Michael Tipton
LOCATION:All Churches
LAST-MODIFIED:20221025T150735Z
URL:https://www.cccuhq.org/component/simplecalendar/131-general/188-advent-offering-for-missions?Itemid=382
TRANSP:OPAQUE
DTSTART:20221201T000000Z
DTEND:20221225T000000Z
END:VEVENT
END:VCALENDAR