BEGIN:VCALENDAR
VERSION:2.0
METHOD:PUBLISH
PRODID:SimpleCalendar
BEGIN:VEVENT
UID:@simplecalendar-Churches of Christ in Christian Union
CATEGORIES:General
CLASS:PUBLIC
DTSTAMP:20260420T081733Z
CREATED:20260420T081733Z
SUMMARY:CCCU Hispanic Camp
DESCRIPTION:CCCU Hispanic Camp Nipgen Campgrounds /  Rev. Gary Heimbach
LOCATION:Nipgen Campgrounds
LAST-MODIFIED:20220316T000000Z
GEO:39.19506;-83.15088
URL:https://www.cccuhq.org/component/simplecalendar/131-general/176-cccu-hispanic-camp-8425501?Itemid=382
TRANSP:OPAQUE
DTSTART:20220805T000000Z
DTEND:20220807T000000Z
END:VEVENT
END:VCALENDAR