BEGIN:VCALENDAR
VERSION:2.0
METHOD:PUBLISH
PRODID:SimpleCalendar
BEGIN:VEVENT
UID:@simplecalendar-Churches of Christ in Christian Union
CATEGORIES:General
CLASS:PUBLIC
DTSTAMP:20260420T081833Z
CREATED:20260420T081833Z
SUMMARY:General Council
DESCRIPTION:General Council Ohio Christian University /  Mrs. Becky Hux
LOCATION:Ohio Christian University
LAST-MODIFIED:20220302T185014Z
URL:https://www.cccuhq.org/component/simplecalendar/131-general/171-general-council-f0e561f?Itemid=382
TRANSP:OPAQUE
DTSTART:20220627T000000Z
DTEND:20220628T000000Z
END:VEVENT
END:VCALENDAR