BEGIN:VCALENDAR
VERSION:2.0
METHOD:PUBLISH
PRODID:SimpleCalendar
BEGIN:VEVENT
UID:@simplecalendar-Churches of Christ in Christian Union
CATEGORIES:General
CLASS:PUBLIC
DTSTAMP:20260420T083353Z
CREATED:20260420T083353Z
SUMMARY:Teens of Praise
DESCRIPTION:Teens of Praise Ohio Christian University /  Rev. Aaron Green
LOCATION:Ohio Christian University
LAST-MODIFIED:20210616T160938Z
GEO:39.61154;-82.89958
URL:https://www.cccuhq.org/component/simplecalendar/131-general/144-teens-of-praise-3f2e895?Itemid=382
TRANSP:OPAQUE
DTSTART:20210621T000000Z
DTEND:20210626T000000Z
END:VEVENT
END:VCALENDAR